BEGIN:VCALENDAR
VERSION:2.0
PRODID:Work
X-PUBLISHED-TTL:P1W
BEGIN:VEVENT
UID:69e810ab59edd
DTSTART:20260502T125500Z
SEQUENCE:0
TRANSP:OPAQUE
DTEND:20260502T133000Z
SUMMARY:SS Variety 2 - SA Cup '26: Griquas v SWD
CLASS:PUBLIC
DTSTAMP:20260422T000459Z
BEGIN:VALARM
TRIGGER:PT0S
ACTION:DISPLAY
END:VALARM
BEGIN:VALARM
TRIGGER:-PT300S
ACTION:DISPLAY
END:VALARM
END:VEVENT
END:VCALENDAR