BEGIN:VCALENDAR
VERSION:2.0
PRODID:Work
X-PUBLISHED-TTL:P1W
BEGIN:VEVENT
UID:69e82521822d9
DTSTART:20260502T100000Z
SEQUENCE:0
TRANSP:OPAQUE
DTEND:20260502T135500Z
SUMMARY:SS Action - (W) Euro Tour '26 MCB Classic D2
CLASS:PUBLIC
DTSTAMP:20260422T013217Z
BEGIN:VALARM
TRIGGER:PT0S
ACTION:DISPLAY
END:VALARM
BEGIN:VALARM
TRIGGER:-PT300S
ACTION:DISPLAY
END:VALARM
END:VEVENT
END:VCALENDAR