BEGIN:VCALENDAR
VERSION:2.0
PRODID:Work
X-PUBLISHED-TTL:P1W
BEGIN:VEVENT
UID:69e9f1672b7c4
DTSTART:20260502T110000Z
SEQUENCE:0
TRANSP:OPAQUE
DTEND:20260502T135500Z
SUMMARY:SS Action - UFC FN: Maddalena v Prates
CLASS:PUBLIC
DTSTAMP:20260423T101607Z
BEGIN:VALARM
TRIGGER:PT0S
ACTION:DISPLAY
END:VALARM
BEGIN:VALARM
TRIGGER:-PT300S
ACTION:DISPLAY
END:VALARM
END:VEVENT
END:VCALENDAR