BEGIN:VCALENDAR
VERSION:2.0
PRODID:Work
X-PUBLISHED-TTL:P1W
BEGIN:VEVENT
UID:69e810ced0880
DTSTART:20260502T135500Z
SEQUENCE:0
TRANSP:OPAQUE
DTEND:20260502T150000Z
SUMMARY:SS Motorsport - F2 '26: Bahrain Sprint Race
CLASS:PUBLIC
DTSTAMP:20260422T000534Z
BEGIN:VALARM
TRIGGER:PT0S
ACTION:DISPLAY
END:VALARM
BEGIN:VALARM
TRIGGER:-PT300S
ACTION:DISPLAY
END:VALARM
END:VEVENT
END:VCALENDAR