BEGIN:VCALENDAR
VERSION:2.0
PRODID:Work
X-PUBLISHED-TTL:P1W
BEGIN:VEVENT
UID:69e824fc8d645
DTSTART:20260502T140000Z
SEQUENCE:0
TRANSP:OPAQUE
DTEND:20260502T153000Z
SUMMARY:SS Variety 2 - Formula E '26: Berlin
CLASS:PUBLIC
DTSTAMP:20260422T013140Z
BEGIN:VALARM
TRIGGER:PT0S
ACTION:DISPLAY
END:VALARM
BEGIN:VALARM
TRIGGER:-PT300S
ACTION:DISPLAY
END:VALARM
END:VEVENT
END:VCALENDAR