BEGIN:VCALENDAR
VERSION:2.0
PRODID:Work
X-PUBLISHED-TTL:P1W
BEGIN:VEVENT
UID:69e82521acb2b
DTSTART:20260502T124500Z
SEQUENCE:0
TRANSP:OPAQUE
DTEND:20260502T160000Z
SUMMARY:SuperSport OTT 7 - TNL '26 Div 1: Aloes v KD Stars
CLASS:PUBLIC
DTSTAMP:20260422T013217Z
BEGIN:VALARM
TRIGGER:PT0S
ACTION:DISPLAY
END:VALARM
BEGIN:VALARM
TRIGGER:-PT300S
ACTION:DISPLAY
END:VALARM
END:VEVENT
END:VCALENDAR