BEGIN:VCALENDAR
VERSION:2.0
PRODID:Work
X-PUBLISHED-TTL:P1W
BEGIN:VEVENT
UID:69e8250143272
DTSTART:20260502T135500Z
SEQUENCE:0
TRANSP:OPAQUE
DTEND:20260502T160000Z
SUMMARY:SS Rugby - Champions Cup 25/26 SF1: LEIN v TOU
CLASS:PUBLIC
DTSTAMP:20260422T013145Z
BEGIN:VALARM
TRIGGER:PT0S
ACTION:DISPLAY
END:VALARM
BEGIN:VALARM
TRIGGER:-PT300S
ACTION:DISPLAY
END:VALARM
END:VEVENT
END:VCALENDAR