BEGIN:VCALENDAR
VERSION:2.0
PRODID:Work
X-PUBLISHED-TTL:P1W
BEGIN:VEVENT
UID:69e7e14219b6f
DTSTART:20260502T155500Z
SEQUENCE:0
TRANSP:OPAQUE
DTEND:20260502T160000Z
SUMMARY:SuperSport MaXimo 1 - F1 '26: Crypto.com Miami GP Sprint
CLASS:PUBLIC
DTSTAMP:20260421T204242Z
BEGIN:VALARM
TRIGGER:PT0S
ACTION:DISPLAY
END:VALARM
BEGIN:VALARM
TRIGGER:-PT300S
ACTION:DISPLAY
END:VALARM
END:VEVENT
END:VCALENDAR