BEGIN:VCALENDAR
VERSION:2.0
PRODID:Work
X-PUBLISHED-TTL:P1W
BEGIN:VEVENT
UID:69e8255bf2827
DTSTART:20260502T135000Z
SEQUENCE:0
TRANSP:OPAQUE
DTEND:20260502T161000Z
SUMMARY:SS Premier League - PL 25/26: Brentford v West Ham
CLASS:PUBLIC
DTSTAMP:20260422T013315Z
BEGIN:VALARM
TRIGGER:PT0S
ACTION:DISPLAY
END:VALARM
BEGIN:VALARM
TRIGGER:-PT300S
ACTION:DISPLAY
END:VALARM
END:VEVENT
END:VCALENDAR