BEGIN:VCALENDAR
VERSION:2.0
PRODID:Work
X-PUBLISHED-TTL:P1W
BEGIN:VEVENT
UID:69ea6989ec5d3
DTSTART:20260502T140000Z
SEQUENCE:0
TRANSP:OPAQUE
DTEND:20260502T161000Z
SUMMARY:SS Action - PL 25/26: Newcastle v Brighton
CLASS:PUBLIC
DTSTAMP:20260423T184841Z
BEGIN:VALARM
TRIGGER:PT0S
ACTION:DISPLAY
END:VALARM
BEGIN:VALARM
TRIGGER:-PT300S
ACTION:DISPLAY
END:VALARM
END:VEVENT
END:VCALENDAR