BEGIN:VCALENDAR
VERSION:2.0
PRODID:Work
X-PUBLISHED-TTL:P1W
BEGIN:VEVENT
UID:69e9f1a7e91fc
DTSTART:20260502T145500Z
SEQUENCE:0
TRANSP:OPAQUE
DTEND:20260502T163000Z
SUMMARY:SS Variety 2 - TNL '26 Div 2: Tshukudu v Baobabs
CLASS:PUBLIC
DTSTAMP:20260423T101711Z
BEGIN:VALARM
TRIGGER:PT0S
ACTION:DISPLAY
END:VALARM
BEGIN:VALARM
TRIGGER:-PT300S
ACTION:DISPLAY
END:VALARM
END:VEVENT
END:VCALENDAR