BEGIN:VCALENDAR
VERSION:2.0
PRODID:Work
X-PUBLISHED-TTL:P1W
BEGIN:VEVENT
UID:69e7fa7998b35
DTSTART:20260502T153000Z
SEQUENCE:0
TRANSP:OPAQUE
DTEND:20260502T173000Z
SUMMARY:ESPN 2 HD - BAL: FUS de Rabat vs Club Africain
CLASS:PUBLIC
DTSTAMP:20260421T223017Z
BEGIN:VALARM
TRIGGER:PT0S
ACTION:DISPLAY
END:VALARM
BEGIN:VALARM
TRIGGER:-PT300S
ACTION:DISPLAY
END:VALARM
END:VEVENT
END:VCALENDAR