BEGIN:VCALENDAR
VERSION:2.0
PRODID:Work
X-PUBLISHED-TTL:P1W
BEGIN:VEVENT
UID:69e825562c7b9
DTSTART:20260502T155500Z
SEQUENCE:0
TRANSP:OPAQUE
DTEND:20260502T173000Z
SUMMARY:SS Motorsport - F1 '26: Miami GP Sprint
CLASS:PUBLIC
DTSTAMP:20260422T013310Z
BEGIN:VALARM
TRIGGER:PT0S
ACTION:DISPLAY
END:VALARM
BEGIN:VALARM
TRIGGER:-PT300S
ACTION:DISPLAY
END:VALARM
END:VEVENT
END:VCALENDAR