BEGIN:VCALENDAR
VERSION:2.0
PRODID:Work
X-PUBLISHED-TTL:P1W
BEGIN:VEVENT
UID:69e9f1a31ed83
DTSTART:20260502T145500Z
SEQUENCE:0
TRANSP:OPAQUE
DTEND:20260502T180000Z
SUMMARY:SS Variety 3 - Ligue1 25/26: PSG v Lorient
CLASS:PUBLIC
DTSTAMP:20260423T101707Z
BEGIN:VALARM
TRIGGER:PT0S
ACTION:DISPLAY
END:VALARM
BEGIN:VALARM
TRIGGER:-PT300S
ACTION:DISPLAY
END:VALARM
END:VEVENT
END:VCALENDAR