BEGIN:VCALENDAR
VERSION:2.0
PRODID:Work
X-PUBLISHED-TTL:P1W
BEGIN:VEVENT
UID:69e82555f0529
DTSTART:20260502T155500Z
SEQUENCE:0
TRANSP:OPAQUE
DTEND:20260502T183000Z
SUMMARY:SS Variety 4 - NBK Cup '26 Final: DBN City v Galaxy
CLASS:PUBLIC
DTSTAMP:20260422T013309Z
BEGIN:VALARM
TRIGGER:PT0S
ACTION:DISPLAY
END:VALARM
BEGIN:VALARM
TRIGGER:-PT300S
ACTION:DISPLAY
END:VALARM
END:VEVENT
END:VCALENDAR