BEGIN:VCALENDAR
VERSION:2.0
PRODID:Work
X-PUBLISHED-TTL:P1W
BEGIN:VEVENT
UID:69e7e16527423
DTSTART:20260502T155500Z
SEQUENCE:0
TRANSP:OPAQUE
DTEND:20260502T183000Z
SUMMARY:SuperSport PSL - NBK Cup '26 Final: DBN City v Galaxy
CLASS:PUBLIC
DTSTAMP:20260421T204317Z
BEGIN:VALARM
TRIGGER:PT0S
ACTION:DISPLAY
END:VALARM
BEGIN:VALARM
TRIGGER:-PT300S
ACTION:DISPLAY
END:VALARM
END:VEVENT
END:VCALENDAR