BEGIN:VCALENDAR
VERSION:2.0
PRODID:Work
X-PUBLISHED-TTL:P1W
BEGIN:VEVENT
UID:69e9f1459b841
DTSTART:20260502T162500Z
SEQUENCE:0
TRANSP:OPAQUE
DTEND:20260502T183000Z
SUMMARY:SS Grandstand - EPCR 25/26 SF1: ULS v EXE
CLASS:PUBLIC
DTSTAMP:20260423T101533Z
BEGIN:VALARM
TRIGGER:PT0S
ACTION:DISPLAY
END:VALARM
BEGIN:VALARM
TRIGGER:-PT300S
ACTION:DISPLAY
END:VALARM
END:VEVENT
END:VCALENDAR