BEGIN:VCALENDAR
VERSION:2.0
PRODID:Work
X-PUBLISHED-TTL:P1W
BEGIN:VEVENT
UID:69e824fcd9030
DTSTART:20260502T195500Z
SEQUENCE:0
TRANSP:OPAQUE
DTEND:20260502T220000Z
SUMMARY:SuperSport MaXimo 1 - F1 '26: Crypto.com Miami GP Qualificaç
CLASS:PUBLIC
DTSTAMP:20260422T013140Z
BEGIN:VALARM
TRIGGER:PT0S
ACTION:DISPLAY
END:VALARM
BEGIN:VALARM
TRIGGER:-PT300S
ACTION:DISPLAY
END:VALARM
END:VEVENT
END:VCALENDAR