BEGIN:VCALENDAR
VERSION:2.0
PRODID:Work
X-PUBLISHED-TTL:P1W
BEGIN:VEVENT
UID:69e7e13d19be8
DTSTART:20260502T203000Z
SEQUENCE:0
TRANSP:OPAQUE
DTEND:20260502T233000Z
SUMMARY:SS Variety 2 - LPGA '26 Riviera Maya Open D3
CLASS:PUBLIC
DTSTAMP:20260421T204237Z
BEGIN:VALARM
TRIGGER:PT0S
ACTION:DISPLAY
END:VALARM
BEGIN:VALARM
TRIGGER:-PT300S
ACTION:DISPLAY
END:VALARM
END:VEVENT
END:VCALENDAR