BEGIN:VCALENDAR
VERSION:2.0
PRODID:Work
X-PUBLISHED-TTL:P1W
BEGIN:VEVENT
UID:69e8255af0a4f
DTSTART:20260503T010000Z
SEQUENCE:0
TRANSP:OPAQUE
DTEND:20260503T040000Z
SUMMARY:SuperSport MaXimo 1 - PFL WT '26: Welterweight Bout: Logan S
CLASS:PUBLIC
DTSTAMP:20260422T013314Z
BEGIN:VALARM
TRIGGER:PT0S
ACTION:DISPLAY
END:VALARM
BEGIN:VALARM
TRIGGER:-PT300S
ACTION:DISPLAY
END:VALARM
END:VEVENT
END:VCALENDAR