BEGIN:VCALENDAR
VERSION:2.0
PRODID:Work
X-PUBLISHED-TTL:P1W
BEGIN:VEVENT
UID:69ea69803788e
DTSTART:20260502T230000Z
SEQUENCE:0
TRANSP:OPAQUE
DTEND:20260503T050000Z
SUMMARY:SS Action - PFL WT '26: Storley v Zendeli
CLASS:PUBLIC
DTSTAMP:20260423T184832Z
BEGIN:VALARM
TRIGGER:PT0S
ACTION:DISPLAY
END:VALARM
BEGIN:VALARM
TRIGGER:-PT300S
ACTION:DISPLAY
END:VALARM
END:VEVENT
END:VCALENDAR