BEGIN:VCALENDAR
VERSION:2.0
PRODID:Work
X-PUBLISHED-TTL:P1W
BEGIN:VEVENT
UID:69e8255b903ba
DTSTART:20260503T035000Z
SEQUENCE:0
TRANSP:OPAQUE
DTEND:20260503T052400Z
SUMMARY:ESPN 2 HD - JRL: Black Rams vs Spears
CLASS:PUBLIC
DTSTAMP:20260422T013315Z
BEGIN:VALARM
TRIGGER:PT0S
ACTION:DISPLAY
END:VALARM
BEGIN:VALARM
TRIGGER:-PT300S
ACTION:DISPLAY
END:VALARM
END:VEVENT
END:VCALENDAR