BEGIN:VCALENDAR
VERSION:2.0
PRODID:Work
X-PUBLISHED-TTL:P1W
BEGIN:VEVENT
UID:69e7fa7e1e484
DTSTART:20260503T030000Z
SEQUENCE:0
TRANSP:OPAQUE
DTEND:20260503T070000Z
SUMMARY:SS Golf - Asian Tour '26 Maekyung Open D4
CLASS:PUBLIC
DTSTAMP:20260421T223022Z
BEGIN:VALARM
TRIGGER:PT0S
ACTION:DISPLAY
END:VALARM
BEGIN:VALARM
TRIGGER:-PT300S
ACTION:DISPLAY
END:VALARM
END:VEVENT
END:VCALENDAR