BEGIN:VCALENDAR
VERSION:2.0
PRODID:Work
X-PUBLISHED-TTL:P1W
BEGIN:VEVENT
UID:69ea69c817f45
DTSTART:20260503T050000Z
SEQUENCE:0
TRANSP:OPAQUE
DTEND:20260503T070000Z
SUMMARY:SS Grandstand - Asian Tour '26 Maekyung Open D4
CLASS:PUBLIC
DTSTAMP:20260423T184944Z
BEGIN:VALARM
TRIGGER:PT0S
ACTION:DISPLAY
END:VALARM
BEGIN:VALARM
TRIGGER:-PT300S
ACTION:DISPLAY
END:VALARM
END:VEVENT
END:VCALENDAR