BEGIN:VCALENDAR
VERSION:2.0
PRODID:Work
X-PUBLISHED-TTL:P1W
BEGIN:VEVENT
UID:69e7fa92203c8
DTSTART:20260503T052400Z
SEQUENCE:0
TRANSP:OPAQUE
DTEND:20260503T073000Z
SUMMARY:ESPN 2 HD - JRL: Eagles vs Dynaboars
CLASS:PUBLIC
DTSTAMP:20260421T223042Z
BEGIN:VALARM
TRIGGER:PT0S
ACTION:DISPLAY
END:VALARM
BEGIN:VALARM
TRIGGER:-PT300S
ACTION:DISPLAY
END:VALARM
END:VEVENT
END:VCALENDAR