BEGIN:VCALENDAR
VERSION:2.0
PRODID:Work
X-PUBLISHED-TTL:P1W
BEGIN:VEVENT
UID:69e8107e56e4a
DTSTART:20260503T065500Z
SEQUENCE:0
TRANSP:OPAQUE
DTEND:20260503T075500Z
SUMMARY:SS Motorsport - Formula E '26: Practice 3 Berlin
CLASS:PUBLIC
DTSTAMP:20260422T000414Z
BEGIN:VALARM
TRIGGER:PT0S
ACTION:DISPLAY
END:VALARM
BEGIN:VALARM
TRIGGER:-PT300S
ACTION:DISPLAY
END:VALARM
END:VEVENT
END:VCALENDAR