BEGIN:VCALENDAR
VERSION:2.0
PRODID:Work
X-PUBLISHED-TTL:P1W
BEGIN:VEVENT
UID:69e8255ad3d98
DTSTART:20260503T080000Z
SEQUENCE:0
TRANSP:OPAQUE
DTEND:20260503T090000Z
SUMMARY:SS Motorsport - SBK '26: HUN Yamaha Cup Race 2
CLASS:PUBLIC
DTSTAMP:20260422T013314Z
BEGIN:VALARM
TRIGGER:PT0S
ACTION:DISPLAY
END:VALARM
BEGIN:VALARM
TRIGGER:-PT300S
ACTION:DISPLAY
END:VALARM
END:VEVENT
END:VCALENDAR