BEGIN:VCALENDAR
VERSION:2.0
PRODID:Work
X-PUBLISHED-TTL:P1W
BEGIN:VEVENT
UID:69ea6a0cf123e
DTSTART:20260503T085500Z
SEQUENCE:0
TRANSP:OPAQUE
DTEND:20260503T095000Z
SUMMARY:SS Motorsport - SBK '26: HUN Superpole Race
CLASS:PUBLIC
DTSTAMP:20260423T185052Z
BEGIN:VALARM
TRIGGER:PT0S
ACTION:DISPLAY
END:VALARM
BEGIN:VALARM
TRIGGER:-PT300S
ACTION:DISPLAY
END:VALARM
END:VEVENT
END:VCALENDAR