BEGIN:VCALENDAR
VERSION:2.0
PRODID:Work
X-PUBLISHED-TTL:P1W
BEGIN:VEVENT
UID:69e9f24e91ef3
DTSTART:20260503T082500Z
SEQUENCE:0
TRANSP:OPAQUE
DTEND:20260503T095500Z
SUMMARY:SuperSport School HD - GDL '26 U15: Siwelele v Chiefs
CLASS:PUBLIC
DTSTAMP:20260423T101958Z
BEGIN:VALARM
TRIGGER:PT0S
ACTION:DISPLAY
END:VALARM
BEGIN:VALARM
TRIGGER:-PT300S
ACTION:DISPLAY
END:VALARM
END:VEVENT
END:VCALENDAR