BEGIN:VCALENDAR
VERSION:2.0
PRODID:Work
X-PUBLISHED-TTL:P1W
BEGIN:VEVENT
UID:69ea6a11f1914
DTSTART:20260503T105000Z
SEQUENCE:0
TRANSP:OPAQUE
DTEND:20260503T114500Z
SUMMARY:SS Motorsport - SBK '26: HUN WCR Race 2
CLASS:PUBLIC
DTSTAMP:20260423T185057Z
BEGIN:VALARM
TRIGGER:PT0S
ACTION:DISPLAY
END:VALARM
BEGIN:VALARM
TRIGGER:-PT300S
ACTION:DISPLAY
END:VALARM
END:VEVENT
END:VCALENDAR