BEGIN:VCALENDAR
VERSION:2.0
PRODID:Work
X-PUBLISHED-TTL:P1W
BEGIN:VEVENT
UID:69e9f24e17b2a
DTSTART:20260503T095500Z
SEQUENCE:0
TRANSP:OPAQUE
DTEND:20260503T115000Z
SUMMARY:SuperSport School HD - GDL '26 U17: Siwelele v Chiefs
CLASS:PUBLIC
DTSTAMP:20260423T101958Z
BEGIN:VALARM
TRIGGER:PT0S
ACTION:DISPLAY
END:VALARM
BEGIN:VALARM
TRIGGER:-PT300S
ACTION:DISPLAY
END:VALARM
END:VEVENT
END:VCALENDAR