BEGIN:VCALENDAR
VERSION:2.0
PRODID:Work
X-PUBLISHED-TTL:P1W
BEGIN:VEVENT
UID:69e7fabc092ac
DTSTART:20260503T104500Z
SEQUENCE:0
TRANSP:OPAQUE
DTEND:20260503T115000Z
SUMMARY:SS Motorsport - SBK '26: HUN WCR Race 2
CLASS:PUBLIC
DTSTAMP:20260421T223124Z
BEGIN:VALARM
TRIGGER:PT0S
ACTION:DISPLAY
END:VALARM
BEGIN:VALARM
TRIGGER:-PT300S
ACTION:DISPLAY
END:VALARM
END:VEVENT
END:VCALENDAR