BEGIN:VCALENDAR
VERSION:2.0
PRODID:Work
X-PUBLISHED-TTL:P1W
BEGIN:VEVENT
UID:69e7fa9609638
DTSTART:20260503T091500Z
SEQUENCE:0
TRANSP:OPAQUE
DTEND:20260503T120000Z
SUMMARY:ESPN 2 HD - AFL: Gold Coast Suns vs GWS Giants
CLASS:PUBLIC
DTSTAMP:20260421T223046Z
BEGIN:VALARM
TRIGGER:PT0S
ACTION:DISPLAY
END:VALARM
BEGIN:VALARM
TRIGGER:-PT300S
ACTION:DISPLAY
END:VALARM
END:VEVENT
END:VCALENDAR