BEGIN:VCALENDAR
VERSION:2.0
PRODID:Work
X-PUBLISHED-TTL:P1W
BEGIN:VEVENT
UID:69e824c497240
DTSTART:20260503T101000Z
SEQUENCE:0
TRANSP:OPAQUE
DTEND:20260503T122000Z
SUMMARY:ESPN HD - ERE: FC Volendam vs sc Heerenveen
CLASS:PUBLIC
DTSTAMP:20260422T013044Z
BEGIN:VALARM
TRIGGER:PT0S
ACTION:DISPLAY
END:VALARM
BEGIN:VALARM
TRIGGER:-PT300S
ACTION:DISPLAY
END:VALARM
END:VEVENT
END:VCALENDAR