BEGIN:VCALENDAR
VERSION:2.0
PRODID:Work
X-PUBLISHED-TTL:P1W
BEGIN:VEVENT
UID:69e82555db9b4
DTSTART:20260503T102000Z
SEQUENCE:0
TRANSP:OPAQUE
DTEND:20260503T123000Z
SUMMARY:SS Football - Serie A 25/26: Bologna v Cagliari
CLASS:PUBLIC
DTSTAMP:20260422T013309Z
BEGIN:VALARM
TRIGGER:PT0S
ACTION:DISPLAY
END:VALARM
BEGIN:VALARM
TRIGGER:-PT300S
ACTION:DISPLAY
END:VALARM
END:VEVENT
END:VCALENDAR