BEGIN:VCALENDAR
VERSION:2.0
PRODID:Work
X-PUBLISHED-TTL:P1W
BEGIN:VEVENT
UID:69ea69e1e4900
DTSTART:20260503T105500Z
SEQUENCE:0
TRANSP:OPAQUE
DTEND:20260503T130000Z
SUMMARY:SS Premier League - WSL 25/26: Man City v Liverpool
CLASS:PUBLIC
DTSTAMP:20260423T185009Z
BEGIN:VALARM
TRIGGER:PT0S
ACTION:DISPLAY
END:VALARM
BEGIN:VALARM
TRIGGER:-PT300S
ACTION:DISPLAY
END:VALARM
END:VEVENT
END:VCALENDAR