BEGIN:VCALENDAR
VERSION:2.0
PRODID:Work
X-PUBLISHED-TTL:P1W
BEGIN:VEVENT
UID:69e82555d9e63
DTSTART:20260503T115000Z
SEQUENCE:0
TRANSP:OPAQUE
DTEND:20260503T130000Z
SUMMARY:SS Motorsport - SBK '26: HUN SSP Race 2
CLASS:PUBLIC
DTSTAMP:20260422T013309Z
BEGIN:VALARM
TRIGGER:PT0S
ACTION:DISPLAY
END:VALARM
BEGIN:VALARM
TRIGGER:-PT300S
ACTION:DISPLAY
END:VALARM
END:VEVENT
END:VCALENDAR