BEGIN:VCALENDAR
VERSION:2.0
PRODID:Work
X-PUBLISHED-TTL:P1W
BEGIN:VEVENT
UID:69e7fa485304f
DTSTART:20260503T112500Z
SEQUENCE:0
TRANSP:OPAQUE
DTEND:20260503T133000Z
SUMMARY:SS Rugby - EPCR 25/26 SF2: MON v DRA
CLASS:PUBLIC
DTSTAMP:20260421T222928Z
BEGIN:VALARM
TRIGGER:PT0S
ACTION:DISPLAY
END:VALARM
BEGIN:VALARM
TRIGGER:-PT300S
ACTION:DISPLAY
END:VALARM
END:VEVENT
END:VCALENDAR