BEGIN:VCALENDAR
VERSION:2.0
PRODID:Work
X-PUBLISHED-TTL:P1W
BEGIN:VEVENT
UID:69e7e11f8a90b
DTSTART:20260503T140000Z
SEQUENCE:0
TRANSP:OPAQUE
DTEND:20260503T153000Z
SUMMARY:SS Variety 2 - Formula E '26: Berlin Race 2
CLASS:PUBLIC
DTSTAMP:20260421T204207Z
BEGIN:VALARM
TRIGGER:PT0S
ACTION:DISPLAY
END:VALARM
BEGIN:VALARM
TRIGGER:-PT300S
ACTION:DISPLAY
END:VALARM
END:VEVENT
END:VCALENDAR