BEGIN:VCALENDAR
VERSION:2.0
PRODID:Work
X-PUBLISHED-TTL:P1W
BEGIN:VEVENT
UID:69e810749adb6
DTSTART:20260503T125000Z
SEQUENCE:0
TRANSP:OPAQUE
DTEND:20260503T160000Z
SUMMARY:SS Action - PL 25/26: B'mouth v C Palace
CLASS:PUBLIC
DTSTAMP:20260422T000404Z
BEGIN:VALARM
TRIGGER:PT0S
ACTION:DISPLAY
END:VALARM
BEGIN:VALARM
TRIGGER:-PT300S
ACTION:DISPLAY
END:VALARM
END:VEVENT
END:VCALENDAR