BEGIN:VCALENDAR
VERSION:2.0
PRODID:Work
X-PUBLISHED-TTL:P1W
BEGIN:VEVENT
UID:69e82556727ec
DTSTART:20260503T142000Z
SEQUENCE:0
TRANSP:OPAQUE
DTEND:20260503T160000Z
SUMMARY:SuperSport MaXimo 1 - LI 25/26: Man Utd v Liverpool
CLASS:PUBLIC
DTSTAMP:20260422T013310Z
BEGIN:VALARM
TRIGGER:PT0S
ACTION:DISPLAY
END:VALARM
BEGIN:VALARM
TRIGGER:-PT300S
ACTION:DISPLAY
END:VALARM
END:VEVENT
END:VCALENDAR