BEGIN:VCALENDAR
VERSION:2.0
PRODID:Work
X-PUBLISHED-TTL:P1W
BEGIN:VEVENT
UID:69e7fab329890
DTSTART:20260503T141000Z
SEQUENCE:0
TRANSP:OPAQUE
DTEND:20260503T162500Z
SUMMARY:SuperSport LaLiga - LaLiga 25/26: Getafe v Rayo
CLASS:PUBLIC
DTSTAMP:20260421T223115Z
BEGIN:VALARM
TRIGGER:PT0S
ACTION:DISPLAY
END:VALARM
BEGIN:VALARM
TRIGGER:-PT300S
ACTION:DISPLAY
END:VALARM
END:VEVENT
END:VCALENDAR