BEGIN:VCALENDAR
VERSION:2.0
PRODID:Work
X-PUBLISHED-TTL:P1W
BEGIN:VEVENT
UID:69e825221b75b
DTSTART:20260503T162500Z
SEQUENCE:0
TRANSP:OPAQUE
DTEND:20260503T174500Z
SUMMARY:SS Motorsport - F2 '26: Bahrain Feature Race
CLASS:PUBLIC
DTSTAMP:20260422T013218Z
BEGIN:VALARM
TRIGGER:PT0S
ACTION:DISPLAY
END:VALARM
BEGIN:VALARM
TRIGGER:-PT300S
ACTION:DISPLAY
END:VALARM
END:VEVENT
END:VCALENDAR