BEGIN:VCALENDAR
VERSION:2.0
PRODID:Work
X-PUBLISHED-TTL:P1W
BEGIN:VEVENT
UID:69e9f1ba58e88
DTSTART:20260503T184000Z
SEQUENCE:0
TRANSP:OPAQUE
DTEND:20260503T185000Z
SUMMARY:SS Variety 4 - Ligue1 25/26: Lyon v Rennes
CLASS:PUBLIC
DTSTAMP:20260423T101730Z
BEGIN:VALARM
TRIGGER:PT0S
ACTION:DISPLAY
END:VALARM
BEGIN:VALARM
TRIGGER:-PT300S
ACTION:DISPLAY
END:VALARM
END:VEVENT
END:VCALENDAR