BEGIN:VCALENDAR
VERSION:2.0
PRODID:Work
X-PUBLISHED-TTL:P1W
BEGIN:VEVENT
UID:69e8250baa515
DTSTART:20260503T160000Z
SEQUENCE:0
TRANSP:OPAQUE
DTEND:20260503T190000Z
SUMMARY:SS Variety 2 - LPGA '26 Riviera Maya Open D4
CLASS:PUBLIC
DTSTAMP:20260422T013155Z
BEGIN:VALARM
TRIGGER:PT0S
ACTION:DISPLAY
END:VALARM
BEGIN:VALARM
TRIGGER:-PT300S
ACTION:DISPLAY
END:VALARM
END:VEVENT
END:VCALENDAR