BEGIN:VCALENDAR
VERSION:2.0
PRODID:Work
X-PUBLISHED-TTL:P1W
BEGIN:VEVENT
UID:69e8258e643b4
DTSTART:20260503T185500Z
SEQUENCE:0
TRANSP:OPAQUE
DTEND:20260503T220000Z
SUMMARY:SuperSport LaLiga - LaLiga 25/26: Espanyol v R Madrid
CLASS:PUBLIC
DTSTAMP:20260422T013406Z
BEGIN:VALARM
TRIGGER:PT0S
ACTION:DISPLAY
END:VALARM
BEGIN:VALARM
TRIGGER:-PT300S
ACTION:DISPLAY
END:VALARM
END:VEVENT
END:VCALENDAR