BEGIN:VCALENDAR
VERSION:2.0
PRODID:Work
X-PUBLISHED-TTL:P1W
BEGIN:VEVENT
UID:69e82556a51c2
DTSTART:20260503T190000Z
SEQUENCE:0
TRANSP:OPAQUE
DTEND:20260503T220000Z
SUMMARY:SS Variety 2 - PGA Champions '26 The Tradition D4
CLASS:PUBLIC
DTSTAMP:20260422T013310Z
BEGIN:VALARM
TRIGGER:PT0S
ACTION:DISPLAY
END:VALARM
BEGIN:VALARM
TRIGGER:-PT300S
ACTION:DISPLAY
END:VALARM
END:VEVENT
END:VCALENDAR