BEGIN:VCALENDAR
VERSION:2.0
PRODID:Work
X-PUBLISHED-TTL:P1W
BEGIN:VEVENT
UID:69e7fa831f133
DTSTART:20260503T220000Z
SEQUENCE:0
TRANSP:OPAQUE
DTEND:20260503T230000Z
SUMMARY:SS Motorsport - F1 - Chequered Flag
CLASS:PUBLIC
DTSTAMP:20260421T223027Z
BEGIN:VALARM
TRIGGER:PT0S
ACTION:DISPLAY
END:VALARM
BEGIN:VALARM
TRIGGER:-PT300S
ACTION:DISPLAY
END:VALARM
END:VEVENT
END:VCALENDAR