BEGIN:VCALENDAR
VERSION:2.0
PRODID:Work
X-PUBLISHED-TTL:P1W
BEGIN:VEVENT
UID:69e8252202d7b
DTSTART:20260503T192500Z
SEQUENCE:0
TRANSP:OPAQUE
DTEND:20260503T233000Z
SUMMARY:SS Variety 1 - NASCAR '26: Würth 400
CLASS:PUBLIC
DTSTAMP:20260422T013218Z
BEGIN:VALARM
TRIGGER:PT0S
ACTION:DISPLAY
END:VALARM
BEGIN:VALARM
TRIGGER:-PT300S
ACTION:DISPLAY
END:VALARM
END:VEVENT
END:VCALENDAR