BEGIN:VCALENDAR
VERSION:2.0
PRODID:Work
X-PUBLISHED-TTL:P1W
BEGIN:VEVENT
UID:69ea67edc86f6
DTSTART:20260503T230000Z
SEQUENCE:0
TRANSP:OPAQUE
DTEND:20260504T000000Z
SUMMARY:SS Grandstand - F1 - Chequered Flag
CLASS:PUBLIC
DTSTAMP:20260423T184149Z
BEGIN:VALARM
TRIGGER:PT0S
ACTION:DISPLAY
END:VALARM
BEGIN:VALARM
TRIGGER:-PT300S
ACTION:DISPLAY
END:VALARM
END:VEVENT
END:VCALENDAR